Package: imcRtools Version: 1.13.0 Command: /Library/Frameworks/R.framework/Resources/bin/R CMD build --keep-empty-dirs --no-resave-data imcRtools StartedAt: 2025-02-09 17:08:52 -0500 (Sun, 09 Feb 2025) EndedAt: 2025-02-09 17:12:37 -0500 (Sun, 09 Feb 2025) EllapsedTime: 224.3 seconds RetCode: 0 Status: OK PackageFile: imcRtools_1.13.0.tar.gz PackageFileSize: 6.772 MiB