Package: imcRtools Version: 1.13.0 Command: /Library/Frameworks/R.framework/Resources/bin/R CMD INSTALL imcRtools StartedAt: 2025-02-09 15:32:39 -0500 (Sun, 09 Feb 2025) EndedAt: 2025-02-09 15:33:57 -0500 (Sun, 09 Feb 2025) EllapsedTime: 78.0 seconds RetCode: 0 Status: OK