Package: imcRtools Version: 1.13.0 Command: rm -rf imcRtools.buildbin-libdir && mkdir imcRtools.buildbin-libdir && E:\biocbuild\bbs-3.21-bioc\R\bin\R.exe CMD INSTALL --build --library=imcRtools.buildbin-libdir imcRtools_1.13.0.tar.gz StartedAt: 2025-02-10 07:57:35 -0500 (Mon, 10 Feb 2025) EndedAt: 2025-02-10 07:59:06 -0500 (Mon, 10 Feb 2025) EllapsedTime: 90.9 seconds RetCode: 0 Status: OK PackageFile: imcRtools_1.13.0.zip PackageFileSize: 2.03 MiB