Package: immApex Version: 1.1.0 Command: rm -rf immApex.buildbin-libdir && mkdir immApex.buildbin-libdir && /Users/biocbuild/BBS/utils/build-universal.sh immApex_1.1.0.tar.gz /Library/Frameworks/R.framework/Resources/bin/R immApex.buildbin-libdir StartedAt: 2025-02-04 22:19:48 -0500 (Tue, 04 Feb 2025) EndedAt: 2025-02-04 22:20:00 -0500 (Tue, 04 Feb 2025) EllapsedTime: 11.2 seconds RetCode: 0 Status: OK PackageFile: immApex_1.1.0.tgz PackageFileSize: 1.814 MiB