Package: immApex Version: 1.1.0 Command: /Library/Frameworks/R.framework/Resources/bin/R CMD INSTALL immApex StartedAt: 2025-02-04 15:05:20 -0500 (Tue, 04 Feb 2025) EndedAt: 2025-02-04 15:05:31 -0500 (Tue, 04 Feb 2025) EllapsedTime: 10.8 seconds RetCode: 0 Status: OK