Package: immApex Version: 1.1.0 Command: rm -rf immApex.buildbin-libdir && mkdir immApex.buildbin-libdir && /Users/biocbuild/BBS/utils/build-universal.sh immApex_1.1.0.tar.gz /Library/Frameworks/R.framework/Resources/bin/R immApex.buildbin-libdir StartedAt: 2025-02-05 00:44:51 -0500 (Wed, 05 Feb 2025) EndedAt: 2025-02-05 00:45:30 -0500 (Wed, 05 Feb 2025) EllapsedTime: 38.4 seconds RetCode: 0 Status: OK PackageFile: immApex_1.1.0.tgz PackageFileSize: 1.811 MiB