Package: immApex Version: 1.1.0 Command: /Library/Frameworks/R.framework/Resources/bin/R CMD check --install=check:immApex.install-out.txt --library=/Library/Frameworks/R.framework/Resources/library --no-vignettes --timings immApex_1.1.0.tar.gz StartedAt: 2025-02-04 21:08:22 -0500 (Tue, 04 Feb 2025) EndedAt: 2025-02-04 21:13:16 -0500 (Tue, 04 Feb 2025) EllapsedTime: 293.6 seconds RetCode: 0 Status: OK CheckDir: immApex.Rcheck Warnings: 0