Package: immApex Version: 1.1.0 Command: /Library/Frameworks/R.framework/Resources/bin/R CMD INSTALL immApex StartedAt: 2025-02-04 15:11:39 -0500 (Tue, 04 Feb 2025) EndedAt: 2025-02-04 15:12:15 -0500 (Tue, 04 Feb 2025) EllapsedTime: 36.0 seconds RetCode: 0 Status: OK