Package: immApex Version: 1.1.0 Command: /home/biocbuild/bbs-3.21-bioc/R/bin/R CMD build --keep-empty-dirs --no-resave-data immApex StartedAt: 2025-02-04 17:41:22 -0500 (Tue, 04 Feb 2025) EndedAt: 2025-02-04 17:42:23 -0500 (Tue, 04 Feb 2025) EllapsedTime: 61.2 seconds RetCode: 1 Status: ERROR PackageFile: None PackageFileSize: NA