Package: immApex Version: 1.1.0 Command: E:\biocbuild\bbs-3.21-bioc\R\bin\R.exe CMD check --no-multiarch --install=check:immApex.install-out.txt --library=E:\biocbuild\bbs-3.21-bioc\R\library --no-vignettes --timings immApex_1.1.0.tar.gz StartedAt: 2025-02-05 02:32:54 -0500 (Wed, 05 Feb 2025) EndedAt: 2025-02-05 02:38:53 -0500 (Wed, 05 Feb 2025) EllapsedTime: 359.3 seconds RetCode: 0 Status: OK CheckDir: immApex.Rcheck Warnings: 0