Package: immApex Version: 1.1.0 Command: E:\biocbuild\bbs-3.21-bioc\R\bin\R.exe CMD INSTALL immApex StartedAt: 2025-02-04 15:53:48 -0500 (Tue, 04 Feb 2025) EndedAt: 2025-02-04 15:54:23 -0500 (Tue, 04 Feb 2025) EllapsedTime: 35.3 seconds RetCode: 0 Status: OK