Package: immunoClust Version: 1.39.3 Command: /Library/Frameworks/R.framework/Resources/bin/R CMD build --keep-empty-dirs --no-resave-data immunoClust StartedAt: 2025-02-04 16:40:50 -0500 (Tue, 04 Feb 2025) EndedAt: 2025-02-04 16:42:20 -0500 (Tue, 04 Feb 2025) EllapsedTime: 89.8 seconds RetCode: 0 Status: OK PackageFile: immunoClust_1.39.3.tar.gz PackageFileSize: 2.508 MiB