Package: immunoClust Version: 1.39.3 Command: /Library/Frameworks/R.framework/Resources/bin/R CMD check --install=check:immunoClust.install-out.txt --library=/Library/Frameworks/R.framework/Resources/library --no-vignettes --timings immunoClust_1.39.3.tar.gz StartedAt: 2025-02-04 19:44:49 -0500 (Tue, 04 Feb 2025) EndedAt: 2025-02-04 19:46:01 -0500 (Tue, 04 Feb 2025) EllapsedTime: 71.8 seconds RetCode: 0 Status: OK CheckDir: immunoClust.Rcheck Warnings: 0