Package: immunoClust Version: 1.39.3 Command: /Library/Frameworks/R.framework/Resources/bin/R CMD build --keep-empty-dirs --no-resave-data immunoClust StartedAt: 2025-02-04 17:05:11 -0500 (Tue, 04 Feb 2025) EndedAt: 2025-02-04 17:09:33 -0500 (Tue, 04 Feb 2025) EllapsedTime: 262.1 seconds RetCode: 0 Status: OK PackageFile: immunoClust_1.39.3.tar.gz PackageFileSize: 2.511 MiB