Package: immunoClust Version: 1.39.3 Command: /Library/Frameworks/R.framework/Resources/bin/R CMD INSTALL immunoClust StartedAt: 2025-02-04 15:16:53 -0500 (Tue, 04 Feb 2025) EndedAt: 2025-02-04 15:17:29 -0500 (Tue, 04 Feb 2025) EllapsedTime: 35.9 seconds RetCode: 0 Status: OK