Package: immunoClust Version: 1.39.3 Command: /home/biocbuild/bbs-3.21-bioc/R/bin/R CMD INSTALL immunoClust StartedAt: 2025-02-04 15:12:01 -0500 (Tue, 04 Feb 2025) EndedAt: 2025-02-04 15:12:26 -0500 (Tue, 04 Feb 2025) EllapsedTime: 25.2 seconds RetCode: 0 Status: OK