Package: immunoClust Version: 1.39.3 Command: chmod a+r immunoClust -R && E:\biocbuild\bbs-3.21-bioc\R\bin\R.exe CMD build --keep-empty-dirs --no-resave-data immunoClust StartedAt: 2025-02-09 19:21:11 -0500 (Sun, 09 Feb 2025) EndedAt: 2025-02-09 19:25:10 -0500 (Sun, 09 Feb 2025) EllapsedTime: 239.1 seconds RetCode: 0 Status: OK PackageFile: immunoClust_1.39.3.tar.gz PackageFileSize: 2.509 MiB