Package: immunoClust Version: 1.39.3 Command: E:\biocbuild\bbs-3.21-bioc\R\bin\R.exe CMD check --no-multiarch --install=check:immunoClust.install-out.txt --library=E:\biocbuild\bbs-3.21-bioc\R\library --no-vignettes --timings immunoClust_1.39.3.tar.gz StartedAt: 2025-02-10 02:05:35 -0500 (Mon, 10 Feb 2025) EndedAt: 2025-02-10 02:09:31 -0500 (Mon, 10 Feb 2025) EllapsedTime: 236.9 seconds RetCode: 0 Status: OK CheckDir: immunoClust.Rcheck Warnings: 0