Package: immunogenViewer Version: 1.1.0 Maintainer: Katharina Waury MaintainerEmail: kathiwaury at gmail.com git_url: https://git.bioconductor.org/packages/immunogenViewer git_branch: devel git_last_commit: a57d054 git_last_commit_date: 2024-10-29 11:32:47 -0500 (Tue, 29 Oct 2024)