Package: immunogenViewer Version: 1.1.1 Command: /Library/Frameworks/R.framework/Resources/bin/R CMD check --install=check:immunogenViewer.install-out.txt --library=/Library/Frameworks/R.framework/Resources/library --no-vignettes --timings immunogenViewer_1.1.1.tar.gz StartedAt: 2025-02-09 19:42:54 -0500 (Sun, 09 Feb 2025) EndedAt: 2025-02-09 19:44:09 -0500 (Sun, 09 Feb 2025) EllapsedTime: 74.9 seconds RetCode: 0 Status: OK CheckDir: immunogenViewer.Rcheck Warnings: 0