Package: immunogenViewer Version: 1.1.0 Command: /Library/Frameworks/R.framework/Resources/bin/R CMD INSTALL immunogenViewer StartedAt: 2025-02-03 15:44:34 -0500 (Mon, 03 Feb 2025) EndedAt: 2025-02-03 15:44:40 -0500 (Mon, 03 Feb 2025) EllapsedTime: 5.8 seconds RetCode: 0 Status: OK