Package: immunogenViewer Version: 1.1.1 Command: rm -rf immunogenViewer.buildbin-libdir && mkdir immunogenViewer.buildbin-libdir && E:\biocbuild\bbs-3.21-bioc\R\bin\R.exe CMD INSTALL --build --library=immunogenViewer.buildbin-libdir immunogenViewer_1.1.1.tar.gz StartedAt: 2025-02-10 07:57:46 -0500 (Mon, 10 Feb 2025) EndedAt: 2025-02-10 07:58:47 -0500 (Mon, 10 Feb 2025) EllapsedTime: 61.1 seconds RetCode: 0 Status: OK PackageFile: immunogenViewer_1.1.1.zip PackageFileSize: 514.7 KiB