Package: immunogenViewer Version: 1.1.0 Command: chmod a+r immunogenViewer -R && E:\biocbuild\bbs-3.21-bioc\R\bin\R.exe CMD build --keep-empty-dirs --no-resave-data immunogenViewer StartedAt: 2025-02-03 19:34:06 -0500 (Mon, 03 Feb 2025) EndedAt: 2025-02-03 19:36:12 -0500 (Mon, 03 Feb 2025) EllapsedTime: 126.2 seconds RetCode: 0 Status: OK PackageFile: immunogenViewer_1.1.0.tar.gz PackageFileSize: 494.1 KiB