Package: immunogenViewer Version: 1.1.0 Command: E:\biocbuild\bbs-3.21-bioc\R\bin\R.exe CMD check --no-multiarch --install=check:immunogenViewer.install-out.txt --library=E:\biocbuild\bbs-3.21-bioc\R\library --no-vignettes --timings immunogenViewer_1.1.0.tar.gz StartedAt: 2025-02-04 02:33:54 -0500 (Tue, 04 Feb 2025) EndedAt: 2025-02-04 02:36:44 -0500 (Tue, 04 Feb 2025) EllapsedTime: 170.3 seconds RetCode: 0 Status: OK CheckDir: immunogenViewer.Rcheck Warnings: 0