Package: immunogenViewer Version: 1.1.1 Command: E:\biocbuild\bbs-3.21-bioc\R\bin\R.exe CMD INSTALL immunogenViewer StartedAt: 2025-02-09 15:45:53 -0500 (Sun, 09 Feb 2025) EndedAt: 2025-02-09 15:46:33 -0500 (Sun, 09 Feb 2025) EllapsedTime: 40.7 seconds RetCode: 0 Status: OK