Package: immunotation Version: 1.15.0 Command: rm -rf immunotation.buildbin-libdir && mkdir immunotation.buildbin-libdir && /Users/biocbuild/BBS/utils/build-universal.sh immunotation_1.15.0.tar.gz /Library/Frameworks/R.framework/Resources/bin/R immunotation.buildbin-libdir StartedAt: 2025-02-09 22:18:00 -0500 (Sun, 09 Feb 2025) EndedAt: 2025-02-09 22:18:41 -0500 (Sun, 09 Feb 2025) EllapsedTime: 41.8 seconds RetCode: 0 Status: OK PackageFile: immunotation_1.15.0.tgz PackageFileSize: 4.224 MiB