Package: immunotation Version: 1.15.0 Command: /home/biocbuild/R/R/bin/R CMD check --install=check:immunotation.install-out.txt --library=/home/biocbuild/R/R/site-library --no-vignettes --timings immunotation_1.15.0.tar.gz StartedAt: 2025-01-28 11:37:33 -0000 (Tue, 28 Jan 2025) EndedAt: 2025-01-28 11:46:27 -0000 (Tue, 28 Jan 2025) EllapsedTime: 534.4 seconds RetCode: 0 Status: WARNINGS CheckDir: immunotation.Rcheck Warnings: 1