Package: immunotation Version: 1.15.0 Command: /Library/Frameworks/R.framework/Resources/bin/R CMD build --keep-empty-dirs --no-resave-data immunotation StartedAt: 2025-02-09 17:09:23 -0500 (Sun, 09 Feb 2025) EndedAt: 2025-02-09 17:22:21 -0500 (Sun, 09 Feb 2025) EllapsedTime: 777.6 seconds RetCode: 0 Status: OK PackageFile: immunotation_1.15.0.tar.gz PackageFileSize: 2.222 MiB