Package: immunotation Version: 1.15.0 Command: /Library/Frameworks/R.framework/Resources/bin/R CMD INSTALL immunotation StartedAt: 2025-02-03 15:13:35 -0500 (Mon, 03 Feb 2025) EndedAt: 2025-02-03 15:15:57 -0500 (Mon, 03 Feb 2025) EllapsedTime: 141.5 seconds RetCode: 0 Status: OK