Package: immunotation Version: 1.15.0 Command: /home/biocbuild/bbs-3.21-bioc/R/bin/R CMD build --keep-empty-dirs --no-resave-data immunotation StartedAt: 2025-02-09 17:43:54 -0500 (Sun, 09 Feb 2025) EndedAt: 2025-02-09 17:52:11 -0500 (Sun, 09 Feb 2025) EllapsedTime: 497.7 seconds RetCode: 0 Status: OK PackageFile: immunotation_1.15.0.tar.gz PackageFileSize: 2.071 MiB