Package: immunotation Version: 1.15.0 Command: /home/biocbuild/bbs-3.21-bioc/R/bin/R CMD INSTALL immunotation StartedAt: 2025-02-09 15:09:46 -0500 (Sun, 09 Feb 2025) EndedAt: 2025-02-09 15:11:07 -0500 (Sun, 09 Feb 2025) EllapsedTime: 81.3 seconds RetCode: 0 Status: OK