Package: immunotation Version: 1.15.0 Command: rm -rf immunotation.buildbin-libdir && mkdir immunotation.buildbin-libdir && E:\biocbuild\bbs-3.21-bioc\R\bin\R.exe CMD INSTALL --build --library=immunotation.buildbin-libdir immunotation_1.15.0.tar.gz StartedAt: 2025-02-10 07:57:48 -0500 (Mon, 10 Feb 2025) EndedAt: 2025-02-10 08:00:13 -0500 (Mon, 10 Feb 2025) EllapsedTime: 144.8 seconds RetCode: 0 Status: OK PackageFile: immunotation_1.15.0.zip PackageFileSize: 4.049 MiB