Package: immunotation Version: 1.15.0 Command: E:\biocbuild\bbs-3.21-bioc\R\bin\R.exe CMD check --no-multiarch --install=check:immunotation.install-out.txt --library=E:\biocbuild\bbs-3.21-bioc\R\library --no-vignettes --timings immunotation_1.15.0.tar.gz StartedAt: 2025-02-10 02:05:38 -0500 (Mon, 10 Feb 2025) EndedAt: 2025-02-10 02:16:02 -0500 (Mon, 10 Feb 2025) EllapsedTime: 624.2 seconds RetCode: 0 Status: OK CheckDir: immunotation.Rcheck Warnings: 0