Package: infercnv Version: 1.23.0 Command: /Library/Frameworks/R.framework/Resources/bin/R CMD build --keep-empty-dirs --no-resave-data infercnv StartedAt: 2025-02-09 16:41:15 -0500 (Sun, 09 Feb 2025) EndedAt: 2025-02-09 16:42:02 -0500 (Sun, 09 Feb 2025) EllapsedTime: 46.5 seconds RetCode: 0 Status: OK PackageFile: infercnv_1.23.0.tar.gz PackageFileSize: 3.967 MiB