Package: infercnv Version: 1.23.0 Command: /Library/Frameworks/R.framework/Resources/bin/R CMD check --install=check:infercnv.install-out.txt --library=/Library/Frameworks/R.framework/Resources/library --no-vignettes --timings infercnv_1.23.0.tar.gz StartedAt: 2025-02-09 19:43:54 -0500 (Sun, 09 Feb 2025) EndedAt: 2025-02-09 19:46:31 -0500 (Sun, 09 Feb 2025) EllapsedTime: 156.9 seconds RetCode: 0 Status: OK CheckDir: infercnv.Rcheck Warnings: 0