Package: infercnv Version: 1.23.0 Command: /Library/Frameworks/R.framework/Resources/bin/R CMD INSTALL infercnv StartedAt: 2025-02-09 15:21:36 -0500 (Sun, 09 Feb 2025) EndedAt: 2025-02-09 15:21:54 -0500 (Sun, 09 Feb 2025) EllapsedTime: 18.5 seconds RetCode: 0 Status: OK