Package: infercnv Version: 1.23.0 Command: /Library/Frameworks/R.framework/Resources/bin/R CMD build --keep-empty-dirs --no-resave-data infercnv StartedAt: 2025-02-03 17:09:58 -0500 (Mon, 03 Feb 2025) EndedAt: 2025-02-03 17:12:23 -0500 (Mon, 03 Feb 2025) EllapsedTime: 145.1 seconds RetCode: 0 Status: OK PackageFile: infercnv_1.23.0.tar.gz PackageFileSize: 3.967 MiB