Package: infercnv Version: 1.23.0 Command: /home/biocbuild/bbs-3.21-bioc/R/bin/R CMD check --install=check:infercnv.install-out.txt --library=/home/biocbuild/bbs-3.21-bioc/R/site-library --timings infercnv_1.23.0.tar.gz StartedAt: 2025-02-09 23:20:06 -0500 (Sun, 09 Feb 2025) EndedAt: 2025-02-09 23:28:55 -0500 (Sun, 09 Feb 2025) EllapsedTime: 528.6 seconds RetCode: 0 Status: OK CheckDir: infercnv.Rcheck Warnings: 0