Package: infercnv Version: 1.23.0 Command: /home/biocbuild/bbs-3.21-bioc/R/bin/R CMD INSTALL infercnv StartedAt: 2025-02-09 15:19:34 -0500 (Sun, 09 Feb 2025) EndedAt: 2025-02-09 15:20:21 -0500 (Sun, 09 Feb 2025) EllapsedTime: 46.7 seconds RetCode: 0 Status: OK