Package: infercnv Version: 1.23.0 Command: rm -rf infercnv.buildbin-libdir && mkdir infercnv.buildbin-libdir && E:\biocbuild\bbs-3.21-bioc\R\bin\R.exe CMD INSTALL --build --library=infercnv.buildbin-libdir infercnv_1.23.0.tar.gz StartedAt: 2025-02-10 07:58:01 -0500 (Mon, 10 Feb 2025) EndedAt: 2025-02-10 08:00:06 -0500 (Mon, 10 Feb 2025) EllapsedTime: 124.9 seconds RetCode: 0 Status: OK PackageFile: infercnv_1.23.0.zip PackageFileSize: 4.271 MiB