Package: infercnv Version: 1.23.0 Command: chmod a+r infercnv -R && E:\biocbuild\bbs-3.21-bioc\R\bin\R.exe CMD build --keep-empty-dirs --no-resave-data infercnv StartedAt: 2025-02-09 19:23:10 -0500 (Sun, 09 Feb 2025) EndedAt: 2025-02-09 19:25:40 -0500 (Sun, 09 Feb 2025) EllapsedTime: 150.1 seconds RetCode: 0 Status: OK PackageFile: infercnv_1.23.0.tar.gz PackageFileSize: 3.89 MiB