Package: infinityFlow Version: 1.17.0 Command: /Library/Frameworks/R.framework/Resources/bin/R CMD check --install=check:infinityFlow.install-out.txt --library=/Library/Frameworks/R.framework/Resources/library --no-vignettes --timings infinityFlow_1.17.0.tar.gz StartedAt: 2025-02-12 21:11:12 -0500 (Wed, 12 Feb 2025) EndedAt: 2025-02-12 21:14:07 -0500 (Wed, 12 Feb 2025) EllapsedTime: 175.6 seconds RetCode: 0 Status: OK CheckDir: infinityFlow.Rcheck Warnings: 0