Package: infinityFlow Version: 1.17.0 Command: /Library/Frameworks/R.framework/Resources/bin/R CMD INSTALL infinityFlow StartedAt: 2025-02-09 15:12:51 -0500 (Sun, 09 Feb 2025) EndedAt: 2025-02-09 15:13:27 -0500 (Sun, 09 Feb 2025) EllapsedTime: 35.6 seconds RetCode: 0 Status: OK