Package: infinityFlow Version: 1.17.0 Command: /home/biocbuild/bbs-3.21-bioc/R/bin/R CMD build --keep-empty-dirs --no-resave-data infinityFlow StartedAt: 2025-02-12 17:41:35 -0500 (Wed, 12 Feb 2025) EndedAt: 2025-02-12 17:44:58 -0500 (Wed, 12 Feb 2025) EllapsedTime: 203.2 seconds RetCode: 0 Status: OK PackageFile: infinityFlow_1.17.0.tar.gz PackageFileSize: 1.709 MiB