Package: infinityFlow Version: 1.17.0 Command: /home/biocbuild/bbs-3.21-bioc/R/bin/R CMD check --install=check:infinityFlow.install-out.txt --library=/home/biocbuild/bbs-3.21-bioc/R/site-library --timings infinityFlow_1.17.0.tar.gz StartedAt: 2025-02-09 23:20:28 -0500 (Sun, 09 Feb 2025) EndedAt: 2025-02-09 23:26:36 -0500 (Sun, 09 Feb 2025) EllapsedTime: 368.4 seconds RetCode: 0 Status: OK CheckDir: infinityFlow.Rcheck Warnings: 0