Package: infinityFlow Version: 1.17.0 Command: /home/biocbuild/bbs-3.21-bioc/R/bin/R CMD INSTALL infinityFlow StartedAt: 2025-02-09 15:14:31 -0500 (Sun, 09 Feb 2025) EndedAt: 2025-02-09 15:14:54 -0500 (Sun, 09 Feb 2025) EllapsedTime: 22.7 seconds RetCode: 0 Status: OK