Package: infinityFlow Version: 1.17.0 Command: E:\biocbuild\bbs-3.21-bioc\R\bin\R.exe CMD INSTALL infinityFlow StartedAt: 2025-02-12 15:38:25 -0500 (Wed, 12 Feb 2025) EndedAt: 2025-02-12 15:39:01 -0500 (Wed, 12 Feb 2025) EllapsedTime: 36.6 seconds RetCode: 0 Status: OK