Package: interacCircos Version: 1.17.0 Command: /Library/Frameworks/R.framework/Resources/bin/R CMD check --install=check:interacCircos.install-out.txt --library=/Library/Frameworks/R.framework/Resources/library --no-vignettes --timings interacCircos_1.17.0.tar.gz StartedAt: 2025-02-09 19:44:27 -0500 (Sun, 09 Feb 2025) EndedAt: 2025-02-09 19:44:42 -0500 (Sun, 09 Feb 2025) EllapsedTime: 15.2 seconds RetCode: 0 Status: OK CheckDir: interacCircos.Rcheck Warnings: 0