Package: interacCircos Version: 1.17.0 Command: /Library/Frameworks/R.framework/Resources/bin/R CMD INSTALL interacCircos StartedAt: 2025-02-09 15:14:50 -0500 (Sun, 09 Feb 2025) EndedAt: 2025-02-09 15:14:51 -0500 (Sun, 09 Feb 2025) EllapsedTime: 1.4 seconds RetCode: 0 Status: OK