Package: interacCircos Version: 1.17.0 Command: /home/biocbuild/R/R/bin/R CMD INSTALL interacCircos StartedAt: 2025-01-29 20:04:46 -0000 (Wed, 29 Jan 2025) EndedAt: 2025-01-29 20:04:50 -0000 (Wed, 29 Jan 2025) EllapsedTime: 4.3 seconds RetCode: 0 Status: OK